Workbook
Name Branches: 'Settings'!$A$12:$A$17
Name Categories: 'Settings'!$B$12:$B$19
Name Suppliers: 'Settings'!$C$12:$C$24
Name MoveTypes: 'Settings'!$D$12:$D$15
Name Staff: 'Settings'!$E$12:$E$26

Sheet Settings
A1: Settings
A2: Edit the yellow cells only. The lists here feed the dropdowns on every sheet.
A4: Clinic name | B4: Al Noor Medical Centre
A5: Currency | B5: SAR
A6: Stock date | B6: 46293
A7: Expiring within (days) | B7: 60
A8: Red under (days) | B8: 30
A9: Amber under (days) | B9: 90
A11: Branches | B11: Categories | C11: Suppliers | D11: Movement types | E11: Staff
A12: Main branch | B12: Consumable | C12: United Medical Co. | D12: In | E12: Reem Abdullah
A13: North branch | B13: Medicine | C13: Modern Wholesale Pharmacy | D13: Out | E13: Hala Samir
B14: Injectable | C14: Aesthetic Supplies Co. | D14: Transfer | E14: Mona Fahad
B15: Device part | C15: Gulf Laser Co. | D15: Waste | E15: Salma Nasser
B16: Office | C16: Business Stationers | E16: Omar Hassan
E17: Yasmin Ali
E18: Fatima Saad
E19: Youssef Kamal
E20: Dina Mahmoud

Sheet How to use
A1: How to use
A3: 1 | B3: On Settings: branches, categories, suppliers and staff, the stock date (type today’s date, or =TODAY()) and the warning limits in days.
A4: 2 | B4: On Items, one row per item per branch: supplier, last price, lead time and weekly usage. The minimum works itself out.
A5: 3 | B5: Every delivery goes on Batches with its batch number and expiry. Every issue, waste or transfer goes on Movements with the batch number.
A6: 4 | B6: Balance shows every item and what is short. Order list gathers what is below minimum by supplier, ready to print. Expiry sorts the batches by date.
A7: 5 | B7: Grey cells are formulas, protected without a password. To lift it: Review → Unprotect sheet.
B9: Clearing the sample data
B10: Select these ranges and press Delete. Do not delete the rows themselves: the formulas in the grey columns stay and work with your numbers.
B11: Items: A3:H55
B12: Items: J3:K55
B13: Batches: A3:A139
B14: Batches: C3:G139
B15: Movements: A3:B363
B16: Movements: D3:J363
B18: Medicolize fills these numbers in automatically. Book a demo →

Sheet Items
A1: Sample data: delete it and start. How to clear it is on the How to use sheet.
A2: Code | B2: Item | C2: Category | D2: Unit | E2: Supplier | F2: Last price | G2: Lead time (days) | H2: Weekly usage | I2: Minimum | J2: Order quantity | K2: Branch
A3: INV-001 | B3: Nitrile gloves, M | C3: Consumable | D3: box | E3: United Medical Co. | F3: 28 | G3: 7 | H3: 6 | I3: =IF(OR($A3="",$H3="",$G3=""),"",$H3*$G3/7*1.5) | J3: 24 | K3: Main branch
A4: INV-002 | B4: Nitrile gloves, L | C4: Consumable | D4: box | E4: United Medical Co. | F4: 28 | G4: 7 | H4: 4 | I4: =IF(OR($A4="",$H4="",$G4=""),"",$H4*$G4/7*1.5) | J4: 16 | K4: Main branch
A5: INV-003 | B5: Face masks | C5: Consumable | D5: box | E5: United Medical Co. | F5: 15 | G5: 7 | H5: 5 | I5: =IF(OR($A5="",$H5="",$G5=""),"",$H5*$G5/7*1.5) | J5: 20 | K5: Main branch
A6: INV-004 | B6: Gauze swabs 10×10 | C6: Consumable | D6: pack | E6: United Medical Co. | F6: 12 | G6: 7 | H6: 6 | I6: =IF(OR($A6="",$H6="",$G6=""),"",$H6*$G6/7*1.5) | J6: 24 | K6: Main branch
A7: INV-005 | B7: Alcohol swabs | C7: Consumable | D7: box | E7: United Medical Co. | F7: 18 | G7: 7 | H7: 3 | I7: =IF(OR($A7="",$H7="",$G7=""),"",$H7*$G7/7*1.5) | J7: 12 | K7: Main branch
A8: INV-006 | B8: Syringes 5 ml | C8: Consumable | D8: box | E8: United Medical Co. | F8: 35 | G8: 10 | H8: 2 | I8: =IF(OR($A8="",$H8="",$G8=""),"",$H8*$G8/7*1.5) | J8: 8 | K8: Main branch
A9: INV-007 | B9: Syringes 1 ml | C9: Consumable | D9: box | E9: United Medical Co. | F9: 40 | G9: 10 | H9: 2 | I9: =IF(OR($A9="",$H9="",$G9=""),"",$H9*$G9/7*1.5) | J9: 8 | K9: Main branch
A10: INV-008 | B10: Needles 30G | C10: Consumable | D10: box | E10: United Medical Co. | F10: 45 | G10: 10 | H10: 2 | I10: =IF(OR($A10="",$H10="",$G10=""),"",$H10*$G10/7*1.5) | J10: 8 | K10: Main branch
A11: INV-009 | B11: Cannulas 25G | C11: Consumable | D11: box | E11: Aesthetic Supplies Co. | F11: 220 | G11: 14 | H11: 0.5 | I11: =IF(OR($A11="",$H11="",$G11=""),"",$H11*$G11/7*1.5) | J11: 2 | K11: Main branch
A12: INV-010 | B12: Laser gel 5 L | C12: Consumable | D12: can | E12: Gulf Laser Co. | F12: 95 | G12: 14 | H12: 1.5 | I12: =IF(OR($A12="",$H12="",$G12=""),"",$H12*$G12/7*1.5) | J12: 6 | K12: Main branch
A13: INV-011 | B13: Ultrasound gel 250 ml | C13: Consumable | D13: bottle | E13: United Medical Co. | F13: 9 | G13: 7 | H13: 4 | I13: =IF(OR($A13="",$H13="",$G13=""),"",$H13*$G13/7*1.5) | J13: 16 | K13: Main branch
A14: INV-012 | B14: Couch roll | C14: Consumable | D14: roll | E14: United Medical Co. | F14: 22 | G14: 7 | H14: 5 | I14: =IF(OR($A14="",$H14="",$G14=""),"",$H14*$G14/7*1.5) | J14: 20 | K14: Main branch
... A55: INV-033 | B55: TENS electrodes | C55: Device part | D55: pack | E55: United Medical Co. | F55: 35 | G55: 14 | H55: 2 | I55: =IF(OR($A55="",$H55="",$G55=""),"",$H55*$G55/7*1.5) | J55: 8 | K55: North branch
I56: =IF(OR($A56="",$H56="",$G56=""),"",$H56*$G56/7*1.5)
I57: =IF(OR($A57="",$H57="",$G57=""),"",$H57*$G57/7*1.5)
I58: =IF(OR($A58="",$H58="",$G58=""),"",$H58*$G58/7*1.5)
I59: =IF(OR($A59="",$H59="",$G59=""),"",$H59*$G59/7*1.5)
I60: =IF(OR($A60="",$H60="",$G60=""),"",$H60*$G60/7*1.5)
I61: =IF(OR($A61="",$H61="",$G61=""),"",$H61*$G61/7*1.5)
I62: =IF(OR($A62="",$H62="",$G62=""),"",$H62*$G62/7*1.5)
I63: =IF(OR($A63="",$H63="",$G63=""),"",$H63*$G63/7*1.5)
I64: =IF(OR($A64="",$H64="",$G64=""),"",$H64*$G64/7*1.5)
I65: =IF(OR($A65="",$H65="",$G65=""),"",$H65*$G65/7*1.5)
I66: =IF(OR($A66="",$H66="",$G66=""),"",$H66*$G66/7*1.5)
I67: =IF(OR($A67="",$H67="",$G67=""),"",$H67*$G67/7*1.5)
... I202: =IF(OR($A202="",$H202="",$G202=""),"",$H202*$G202/7*1.5)
A203: An item stocked at two branches takes two rows with the same code, each with its own usage and minimum.

Sheet Batches
A1: Sample data: delete it and start. How to clear it is on the How to use sheet.
A2: Item code | B2: Item | C2: Batch no. | D2: Expiry | E2: Quantity received | F2: Received on | G2: Branch | H2: Remaining | I2: Days to expiry | J2: Sort key
A3: INV-001 | B3: =IF($A3="","",IFERROR(INDEX('Items'!$B$3:$B$202,MATCH($A3,'Items'!$A$3:$A$202,0)),"")) | C3: L5032 | D3: 47146 | E3: 12 | F3: 46226 | G3: Main branch | H3: =IF($A3="","",$E3-SUMIFS('Movements'!$F$3:$F$1002,'Movements'!$B$3:$B$1002,$A3,'Movements'!$D$3:$D$1002,$C3,'Movements'!$E$3:$E$1002,"Out")-SUMIFS('Movements'!$F$3:$F$1002,'Movements'!$B$3:$B$1002,$A3,'Movements'!$D$3:$D$1002,$C3,'Movements'!$E$3:$E$1002,"Waste")+SUMIFS('Movements'!$F$3:$F$1002,'Movements'!$B$3:$B$1002,$A3,'Movements'!$D$3:$D$1002,$C3,'Movements'!$E$3:$E$1002,"In")) | I3: =IF(OR($A3="",$D3=""),"",$D3-'Settings'!$B$6) | J3: =IF(OR($A3="",$D3=""),"",IF($H3>0,$D3+ROW()/100000,""))
A4: INV-001 | B4: =IF($A4="","",IFERROR(INDEX('Items'!$B$3:$B$202,MATCH($A4,'Items'!$A$3:$A$202,0)),"")) | C4: L5068 | D4: 47205 | E4: 27 | F4: 46249 | G4: Main branch | H4: =IF($A4="","",$E4-SUMIFS('Movements'!$F$3:$F$1002,'Movements'!$B$3:$B$1002,$A4,'Movements'!$D$3:$D$1002,$C4,'Movements'!$E$3:$E$1002,"Out")-SUMIFS('Movements'!$F$3:$F$1002,'Movements'!$B$3:$B$1002,$A4,'Movements'!$D$3:$D$1002,$C4,'Movements'!$E$3:$E$1002,"Waste")+SUMIFS('Movements'!$F$3:$F$1002,'Movements'!$B$3:$B$1002,$A4,'Movements'!$D$3:$D$1002,$C4,'Movements'!$E$3:$E$1002,"In")) | I4: =IF(OR($A4="",$D4=""),"",$D4-'Settings'!$B$6) | J4: =IF(OR($A4="",$D4=""),"",IF($H4>0,$D4+ROW()/100000,""))
A5: INV-001 | B5: =IF($A5="","",IFERROR(INDEX('Items'!$B$3:$B$202,MATCH($A5,'Items'!$A$3:$A$202,0)),"")) | C5: L5091 | D5: 47266 | E5: 28 | F5: 46280 | G5: Main branch | H5: =IF($A5="","",$E5-SUMIFS('Movements'!$F$3:$F$1002,'Movements'!$B$3:$B$1002,$A5,'Movements'!$D$3:$D$1002,$C5,'Movements'!$E$3:$E$1002,"Out")-SUMIFS('Movements'!$F$3:$F$1002,'Movements'!$B$3:$B$1002,$A5,'Movements'!$D$3:$D$1002,$C5,'Movements'!$E$3:$E$1002,"Waste")+SUMIFS('Movements'!$F$3:$F$1002,'Movements'!$B$3:$B$1002,$A5,'Movements'!$D$3:$D$1002,$C5,'Movements'!$E$3:$E$1002,"In")) | I5: =IF(OR($A5="",$D5=""),"",$D5-'Settings'!$B$6) | J5: =IF(OR($A5="",$D5=""),"",IF($H5>0,$D5+ROW()/100000,""))
A6: INV-002 | B6: =IF($A6="","",IFERROR(INDEX('Items'!$B$3:$B$202,MATCH($A6,'Items'!$A$3:$A$202,0)),"")) | C6: L5159 | D6: 47146 | E6: 7 | F6: 46231 | G6: Main branch | H6: =IF($A6="","",$E6-SUMIFS('Movements'!$F$3:$F$1002,'Movements'!$B$3:$B$1002,$A6,'Movements'!$D$3:$D$1002,$C6,'Movements'!$E$3:$E$1002,"Out")-SUMIFS('Movements'!$F$3:$F$1002,'Movements'!$B$3:$B$1002,$A6,'Movements'!$D$3:$D$1002,$C6,'Movements'!$E$3:$E$1002,"Waste")+SUMIFS('Movements'!$F$3:$F$1002,'Movements'!$B$3:$B$1002,$A6,'Movements'!$D$3:$D$1002,$C6,'Movements'!$E$3:$E$1002,"In")) | I6: =IF(OR($A6="",$D6=""),"",$D6-'Settings'!$B$6) | J6: =IF(OR($A6="",$D6=""),"",IF($H6>0,$D6+ROW()/100000,""))
A7: INV-002 | B7: =IF($A7="","",IFERROR(INDEX('Items'!$B$3:$B$202,MATCH($A7,'Items'!$A$3:$A$202,0)),"")) | C7: L5216 | D7: 47205 | E7: 14 | F7: 46247 | G7: Main branch | H7: =IF($A7="","",$E7-SUMIFS('Movements'!$F$3:$F$1002,'Movements'!$B$3:$B$1002,$A7,'Movements'!$D$3:$D$1002,$C7,'Movements'!$E$3:$E$1002,"Out")-SUMIFS('Movements'!$F$3:$F$1002,'Movements'!$B$3:$B$1002,$A7,'Movements'!$D$3:$D$1002,$C7,'Movements'!$E$3:$E$1002,"Waste")+SUMIFS('Movements'!$F$3:$F$1002,'Movements'!$B$3:$B$1002,$A7,'Movements'!$D$3:$D$1002,$C7,'Movements'!$E$3:$E$1002,"In")) | I7: =IF(OR($A7="",$D7=""),"",$D7-'Settings'!$B$6) | J7: =IF(OR($A7="",$D7=""),"",IF($H7>0,$D7+ROW()/100000,""))
A8: INV-002 | B8: =IF($A8="","",IFERROR(INDEX('Items'!$B$3:$B$202,MATCH($A8,'Items'!$A$3:$A$202,0)),"")) | C8: L5293 | D8: 47266 | E8: 21 | F8: 46273 | G8: Main branch | H8: =IF($A8="","",$E8-SUMIFS('Movements'!$F$3:$F$1002,'Movements'!$B$3:$B$1002,$A8,'Movements'!$D$3:$D$1002,$C8,'Movements'!$E$3:$E$1002,"Out")-SUMIFS('Movements'!$F$3:$F$1002,'Movements'!$B$3:$B$1002,$A8,'Movements'!$D$3:$D$1002,$C8,'Movements'!$E$3:$E$1002,"Waste")+SUMIFS('Movements'!$F$3:$F$1002,'Movements'!$B$3:$B$1002,$A8,'Movements'!$D$3:$D$1002,$C8,'Movements'!$E$3:$E$1002,"In")) | I8: =IF(OR($A8="",$D8=""),"",$D8-'Settings'!$B$6) | J8: =IF(OR($A8="",$D8=""),"",IF($H8>0,$D8+ROW()/100000,""))
A9: INV-003 | B9: =IF($A9="","",IFERROR(INDEX('Items'!$B$3:$B$202,MATCH($A9,'Items'!$A$3:$A$202,0)),"")) | C9: L5358 | D9: 47146 | E9: 9 | F9: 46223 | G9: Main branch | H9: =IF($A9="","",$E9-SUMIFS('Movements'!$F$3:$F$1002,'Movements'!$B$3:$B$1002,$A9,'Movements'!$D$3:$D$1002,$C9,'Movements'!$E$3:$E$1002,"Out")-SUMIFS('Movements'!$F$3:$F$1002,'Movements'!$B$3:$B$1002,$A9,'Movements'!$D$3:$D$1002,$C9,'Movements'!$E$3:$E$1002,"Waste")+SUMIFS('Movements'!$F$3:$F$1002,'Movements'!$B$3:$B$1002,$A9,'Movements'!$D$3:$D$1002,$C9,'Movements'!$E$3:$E$1002,"In")) | I9: =IF(OR($A9="",$D9=""),"",$D9-'Settings'!$B$6) | J9: =IF(OR($A9="",$D9=""),"",IF($H9>0,$D9+ROW()/100000,""))
A10: INV-003 | B10: =IF($A10="","",IFERROR(INDEX('Items'!$B$3:$B$202,MATCH($A10,'Items'!$A$3:$A$202,0)),"")) | C10: L5441 | D10: 47205 | E10: 20 | F10: 46252 | G10: Main branch | H10: =IF($A10="","",$E10-SUMIFS('Movements'!$F$3:$F$1002,'Movements'!$B$3:$B$1002,$A10,'Movements'!$D$3:$D$1002,$C10,'Movements'!$E$3:$E$1002,"Out")-SUMIFS('Movements'!$F$3:$F$1002,'Movements'!$B$3:$B$1002,$A10,'Movements'!$D$3:$D$1002,$C10,'Movements'!$E$3:$E$1002,"Waste")+SUMIFS('Movements'!$F$3:$F$1002,'Movements'!$B$3:$B$1002,$A10,'Movements'!$D$3:$D$1002,$C10,'Movements'!$E$3:$E$1002,"In")) | I10: =IF(OR($A10="",$D10=""),"",$D10-'Settings'!$B$6) | J10: =IF(OR($A10="",$D10=""),"",IF($H10>0,$D10+ROW()/100000,""))
A11: INV-003 | B11: =IF($A11="","",IFERROR(INDEX('Items'!$B$3:$B$202,MATCH($A11,'Items'!$A$3:$A$202,0)),"")) | C11: L5478 | D11: 47266 | E11: 24 | F11: 46276 | G11: Main branch | H11: =IF($A11="","",$E11-SUMIFS('Movements'!$F$3:$F$1002,'Movements'!$B$3:$B$1002,$A11,'Movements'!$D$3:$D$1002,$C11,'Movements'!$E$3:$E$1002,"Out")-SUMIFS('Movements'!$F$3:$F$1002,'Movements'!$B$3:$B$1002,$A11,'Movements'!$D$3:$D$1002,$C11,'Movements'!$E$3:$E$1002,"Waste")+SUMIFS('Movements'!$F$3:$F$1002,'Movements'!$B$3:$B$1002,$A11,'Movements'!$D$3:$D$1002,$C11,'Movements'!$E$3:$E$1002,"In")) | I11: =IF(OR($A11="",$D11=""),"",$D11-'Settings'!$B$6) | J11: =IF(OR($A11="",$D11=""),"",IF($H11>0,$D11+ROW()/100000,""))
A12: INV-004 | B12: =IF($A12="","",IFERROR(INDEX('Items'!$B$3:$B$202,MATCH($A12,'Items'!$A$3:$A$202,0)),"")) | C12: L5527 | D12: 47146 | E12: 12 | F12: 46232 | G12: Main branch | H12: =IF($A12="","",$E12-SUMIFS('Movements'!$F$3:$F$1002,'Movements'!$B$3:$B$1002,$A12,'Movements'!$D$3:$D$1002,$C12,'Movements'!$E$3:$E$1002,"Out")-SUMIFS('Movements'!$F$3:$F$1002,'Movements'!$B$3:$B$1002,$A12,'Movements'!$D$3:$D$1002,$C12,'Movements'!$E$3:$E$1002,"Waste")+SUMIFS('Movements'!$F$3:$F$1002,'Movements'!$B$3:$B$1002,$A12,'Movements'!$D$3:$D$1002,$C12,'Movements'!$E$3:$E$1002,"In")) | I12: =IF(OR($A12="",$D12=""),"",$D12-'Settings'!$B$6) | J12: =IF(OR($A12="",$D12=""),"",IF($H12>0,$D12+ROW()/100000,""))
A13: INV-004 | B13: =IF($A13="","",IFERROR(INDEX('Items'!$B$3:$B$202,MATCH($A13,'Items'!$A$3:$A$202,0)),"")) | C13: L5610 | D13: 47205 | E13: 22 | F13: 46250 | G13: Main branch | H13: =IF($A13="","",$E13-SUMIFS('Movements'!$F$3:$F$1002,'Movements'!$B$3:$B$1002,$A13,'Movements'!$D$3:$D$1002,$C13,'Movements'!$E$3:$E$1002,"Out")-SUMIFS('Movements'!$F$3:$F$1002,'Movements'!$B$3:$B$1002,$A13,'Movements'!$D$3:$D$1002,$C13,'Movements'!$E$3:$E$1002,"Waste")+SUMIFS('Movements'!$F$3:$F$1002,'Movements'!$B$3:$B$1002,$A13,'Movements'!$D$3:$D$1002,$C13,'Movements'!$E$3:$E$1002,"In")) | I13: =IF(OR($A13="",$D13=""),"",$D13-'Settings'!$B$6) | J13: =IF(OR($A13="",$D13=""),"",IF($H13>0,$D13+ROW()/100000,""))
A14: INV-004 | B14: =IF($A14="","",IFERROR(INDEX('Items'!$B$3:$B$202,MATCH($A14,'Items'!$A$3:$A$202,0)),"")) | C14: L5637 | D14: 47266 | E14: 27 | F14: 46280 | G14: Main branch | H14: =IF($A14="","",$E14-SUMIFS('Movements'!$F$3:$F$1002,'Movements'!$B$3:$B$1002,$A14,'Movements'!$D$3:$D$1002,$C14,'Movements'!$E$3:$E$1002,"Out")-SUMIFS('Movements'!$F$3:$F$1002,'Movements'!$B$3:$B$1002,$A14,'Movements'!$D$3:$D$1002,$C14,'Movements'!$E$3:$E$1002,"Waste")+SUMIFS('Movements'!$F$3:$F$1002,'Movements'!$B$3:$B$1002,$A14,'Movements'!$D$3:$D$1002,$C14,'Movements'!$E$3:$E$1002,"In")) | I14: =IF(OR($A14="",$D14=""),"",$D14-'Settings'!$B$6) | J14: =IF(OR($A14="",$D14=""),"",IF($H14>0,$D14+ROW()/100000,""))
... A83: INV-029 | B83: =IF($A83="","",IFERROR(INDEX('Items'!$B$3:$B$202,MATCH($A83,'Items'!$A$3:$A$202,0)),"")) | C83: L8866 | D83: 46780 | E83: 25 | F83: 46278 | G83: Main branch | H83: =IF($A83="","",$E83-SUMIFS('Movements'!$F$3:$F$1002,'Movements'!$B$3:$B$1002,$A83,'Movements'!$D$3:$D$1002,$C83,'Movements'!$E$3:$E$1002,"Out")-SUMIFS('Movements'!$F$3:$F$1002,'Movements'!$B$3:$B$1002,$A83,'Movements'!$D$3:$D$1002,$C83,'Movements'!$E$3:$E$1002,"Waste")+SUMIFS('Movements'!$F$3:$F$1002,'Movements'!$B$3:$B$1002,$A83,'Movements'!$D$3:$D$1002,$C83,'Movements'!$E$3:$E$1002,"In")) | I83: =IF(OR($A83="",$D83=""),"",$D83-'Settings'!$B$6) | J83: =IF(OR($A83="",$D83=""),"",IF($H83>0,$D83+ROW()/100000,""))
A84: INV-030 | B84: =IF($A84="","",IFERROR(INDEX('Items'!$B$3:$B$202,MATCH($A84,'Items'!$A$3:$A$202,0)),"")) | C84: L8911 | E84: 3 | F84: 46225 | G84: Main branch | H84: =IF($A84="","",$E84-SUMIFS('Movements'!$F$3:$F$1002,'Movements'!$B$3:$B$1002,$A84,'Movements'!$D$3:$D$1002,$C84,'Movements'!$E$3:$E$1002,"Out")-SUMIFS('Movements'!$F$3:$F$1002,'Movements'!$B$3:$B$1002,$A84,'Movements'!$D$3:$D$1002,$C84,'Movements'!$E$3:$E$1002,"Waste")+SUMIFS('Movements'!$F$3:$F$1002,'Movements'!$B$3:$B$1002,$A84,'Movements'!$D$3:$D$1002,$C84,'Movements'!$E$3:$E$1002,"In")) | I84: =IF(OR($A84="",$D84=""),"",$D84-'Settings'!$B$6) | J84: =IF(OR($A84="",$D84=""),"",IF($H84>0,$D84+ROW()/100000,""))
A85: INV-031 | B85: =IF($A85="","",IFERROR(INDEX('Items'!$B$3:$B$202,MATCH($A85,'Items'!$A$3:$A$202,0)),"")) | C85: L8932 | E85: 2 | F85: 46222 | G85: Main branch | H85: =IF($A85="","",$E85-SUMIFS('Movements'!$F$3:$F$1002,'Movements'!$B$3:$B$1002,$A85,'Movements'!$D$3:$D$1002,$C85,'Movements'!$E$3:$E$1002,"Out")-SUMIFS('Movements'!$F$3:$F$1002,'Movements'!$B$3:$B$1002,$A85,'Movements'!$D$3:$D$1002,$C85,'Movements'!$E$3:$E$1002,"Waste")+SUMIFS('Movements'!$F$3:$F$1002,'Movements'!$B$3:$B$1002,$A85,'Movements'!$D$3:$D$1002,$C85,'Movements'!$E$3:$E$1002,"In")) | I85: =IF(OR($A85="",$D85=""),"",$D85-'Settings'!$B$6) | J85: =IF(OR($A85="",$D85=""),"",IF($H85>0,$D85+ROW()/100000,""))
A86: INV-032 | B86: =IF($A86="","",IFERROR(INDEX('Items'!$B$3:$B$202,MATCH($A86,'Items'!$A$3:$A$202,0)),"")) | C86: L8947 | E86: 2 | F86: 46222 | G86: Main branch | H86: =IF($A86="","",$E86-SUMIFS('Movements'!$F$3:$F$1002,'Movements'!$B$3:$B$1002,$A86,'Movements'!$D$3:$D$1002,$C86,'Movements'!$E$3:$E$1002,"Out")-SUMIFS('Movements'!$F$3:$F$1002,'Movements'!$B$3:$B$1002,$A86,'Movements'!$D$3:$D$1002,$C86,'Movements'!$E$3:$E$1002,"Waste")+SUMIFS('Movements'!$F$3:$F$1002,'Movements'!$B$3:$B$1002,$A86,'Movements'!$D$3:$D$1002,$C86,'Movements'!$E$3:$E$1002,"In")) | I86: =IF(OR($A86="",$D86=""),"",$D86-'Settings'!$B$6) | J86: =IF(OR($A86="",$D86=""),"",IF($H86>0,$D86+ROW()/100000,""))
A87: INV-033 | B87: =IF($A87="","",IFERROR(INDEX('Items'!$B$3:$B$202,MATCH($A87,'Items'!$A$3:$A$202,0)),"")) | C87: L9024 | E87: 6 | F87: 46222 | G87: Main branch | H87: =IF($A87="","",$E87-SUMIFS('Movements'!$F$3:$F$1002,'Movements'!$B$3:$B$1002,$A87,'Movements'!$D$3:$D$1002,$C87,'Movements'!$E$3:$E$1002,"Out")-SUMIFS('Movements'!$F$3:$F$1002,'Movements'!$B$3:$B$1002,$A87,'Movements'!$D$3:$D$1002,$C87,'Movements'!$E$3:$E$1002,"Waste")+SUMIFS('Movements'!$F$3:$F$1002,'Movements'!$B$3:$B$1002,$A87,'Movements'!$D$3:$D$1002,$C87,'Movements'!$E$3:$E$1002,"In")) | I87: =IF(OR($A87="",$D87=""),"",$D87-'Settings'!$B$6) | J87: =IF(OR($A87="",$D87=""),"",IF($H87>0,$D87+ROW()/100000,""))
A88: INV-033 | B88: =IF($A88="","",IFERROR(INDEX('Items'!$B$3:$B$202,MATCH($A88,'Items'!$A$3:$A$202,0)),"")) | C88: L9098 | E88: 6 | F88: 46254 | G88: Main branch | H88: =IF($A88="","",$E88-SUMIFS('Movements'!$F$3:$F$1002,'Movements'!$B$3:$B$1002,$A88,'Movements'!$D$3:$D$1002,$C88,'Movements'!$E$3:$E$1002,"Out")-SUMIFS('Movements'!$F$3:$F$1002,'Movements'!$B$3:$B$1002,$A88,'Movements'!$D$3:$D$1002,$C88,'Movements'!$E$3:$E$1002,"Waste")+SUMIFS('Movements'!$F$3:$F$1002,'Movements'!$B$3:$B$1002,$A88,'Movements'!$D$3:$D$1002,$C88,'Movements'!$E$3:$E$1002,"In")) | I88: =IF(OR($A88="",$D88=""),"",$D88-'Settings'!$B$6) | J88: =IF(OR($A88="",$D88=""),"",IF($H88>0,$D88+ROW()/100000,""))
A89: INV-033 | B89: =IF($A89="","",IFERROR(INDEX('Items'!$B$3:$B$202,MATCH($A89,'Items'!$A$3:$A$202,0)),"")) | C89: L9186 | E89: 16 | F89: 46278 | G89: Main branch | H89: =IF($A89="","",$E89-SUMIFS('Movements'!$F$3:$F$1002,'Movements'!$B$3:$B$1002,$A89,'Movements'!$D$3:$D$1002,$C89,'Movements'!$E$3:$E$1002,"Out")-SUMIFS('Movements'!$F$3:$F$1002,'Movements'!$B$3:$B$1002,$A89,'Movements'!$D$3:$D$1002,$C89,'Movements'!$E$3:$E$1002,"Waste")+SUMIFS('Movements'!$F$3:$F$1002,'Movements'!$B$3:$B$1002,$A89,'Movements'!$D$3:$D$1002,$C89,'Movements'!$E$3:$E$1002,"In")) | I89: =IF(OR($A89="",$D89=""),"",$D89-'Settings'!$B$6) | J89: =IF(OR($A89="",$D89=""),"",IF($H89>0,$D89+ROW()/100000,""))
A90: INV-034 | B90: =IF($A90="","",IFERROR(INDEX('Items'!$B$3:$B$202,MATCH($A90,'Items'!$A$3:$A$202,0)),"")) | C90: L9240 | E90: 9 | F90: 46229 | G90: Main branch | H90: =IF($A90="","",$E90-SUMIFS('Movements'!$F$3:$F$1002,'Movements'!$B$3:$B$1002,$A90,'Movements'!$D$3:$D$1002,$C90,'Movements'!$E$3:$E$1002,"Out")-SUMIFS('Movements'!$F$3:$F$1002,'Movements'!$B$3:$B$1002,$A90,'Movements'!$D$3:$D$1002,$C90,'Movements'!$E$3:$E$1002,"Waste")+SUMIFS('Movements'!$F$3:$F$1002,'Movements'!$B$3:$B$1002,$A90,'Movements'!$D$3:$D$1002,$C90,'Movements'!$E$3:$E$1002,"In")) | I90: =IF(OR($A90="",$D90=""),"",$D90-'Settings'!$B$6) | J90: =IF(OR($A90="",$D90=""),"",IF($H90>0,$D90+ROW()/100000,""))
A91: INV-035 | B91: =IF($A91="","",IFERROR(INDEX('Items'!$B$3:$B$202,MATCH($A91,'Items'!$A$3:$A$202,0)),"")) | C91: L9322 | E91: 2 | F91: 46230 | G91: Main branch | H91: =IF($A91="","",$E91-SUMIFS('Movements'!$F$3:$F$1002,'Movements'!$B$3:$B$1002,$A91,'Movements'!$D$3:$D$1002,$C91,'Movements'!$E$3:$E$1002,"Out")-SUMIFS('Movements'!$F$3:$F$1002,'Movements'!$B$3:$B$1002,$A91,'Movements'!$D$3:$D$1002,$C91,'Movements'!$E$3:$E$1002,"Waste")+SUMIFS('Movements'!$F$3:$F$1002,'Movements'!$B$3:$B$1002,$A91,'Movements'!$D$3:$D$1002,$C91,'Movements'!$E$3:$E$1002,"In")) | I91: =IF(OR($A91="",$D91=""),"",$D91-'Settings'!$B$6) | J91: =IF(OR($A91="",$D91=""),"",IF($H91>0,$D91+ROW()/100000,""))
A92: INV-036 | B92: =IF($A92="","",IFERROR(INDEX('Items'!$B$3:$B$202,MATCH($A92,'Items'!$A$3:$A$202,0)),"")) | C92: L9411 | E92: 1 | F92: 46232 | G92: Main branch | H92: =IF($A92="","",$E92-SUMIFS('Movements'!$F$3:$F$1002,'Movements'!$B$3:$B$1002,$A92,'Movements'!$D$3:$D$1002,$C92,'Movements'!$E$3:$E$1002,"Out")-SUMIFS('Movements'!$F$3:$F$1002,'Movements'!$B$3:$B$1002,$A92,'Movements'!$D$3:$D$1002,$C92,'Movements'!$E$3:$E$1002,"Waste")+SUMIFS('Movements'!$F$3:$F$1002,'Movements'!$B$3:$B$1002,$A92,'Movements'!$D$3:$D$1002,$C92,'Movements'!$E$3:$E$1002,"In")) | I92: =IF(OR($A92="",$D92=""),"",$D92-'Settings'!$B$6) | J92: =IF(OR($A92="",$D92=""),"",IF($H92>0,$D92+ROW()/100000,""))
A93: INV-036 | B93: =IF($A93="","",IFERROR(INDEX('Items'!$B$3:$B$202,MATCH($A93,'Items'!$A$3:$A$202,0)),"")) | C93: L9419 | E93: 5 | F93: 46246 | G93: Main branch | H93: =IF($A93="","",$E93-SUMIFS('Movements'!$F$3:$F$1002,'Movements'!$B$3:$B$1002,$A93,'Movements'!$D$3:$D$1002,$C93,'Movements'!$E$3:$E$1002,"Out")-SUMIFS('Movements'!$F$3:$F$1002,'Movements'!$B$3:$B$1002,$A93,'Movements'!$D$3:$D$1002,$C93,'Movements'!$E$3:$E$1002,"Waste")+SUMIFS('Movements'!$F$3:$F$1002,'Movements'!$B$3:$B$1002,$A93,'Movements'!$D$3:$D$1002,$C93,'Movements'!$E$3:$E$1002,"In")) | I93: =IF(OR($A93="",$D93=""),"",$D93-'Settings'!$B$6) | J93: =IF(OR($A93="",$D93=""),"",IF($H93>0,$D93+ROW()/100000,""))
A94: INV-036 | B94: =IF($A94="","",IFERROR(INDEX('Items'!$B$3:$B$202,MATCH($A94,'Items'!$A$3:$A$202,0)),"")) | C94: L9450 | E94: 8 | F94: 46274 | G94: Main branch | H94: =IF($A94="","",$E94-SUMIFS('Movements'!$F$3:$F$1002,'Movements'!$B$3:$B$1002,$A94,'Movements'!$D$3:$D$1002,$C94,'Movements'!$E$3:$E$1002,"Out")-SUMIFS('Movements'!$F$3:$F$1002,'Movements'!$B$3:$B$1002,$A94,'Movements'!$D$3:$D$1002,$C94,'Movements'!$E$3:$E$1002,"Waste")+SUMIFS('Movements'!$F$3:$F$1002,'Movements'!$B$3:$B$1002,$A94,'Movements'!$D$3:$D$1002,$C94,'Movements'!$E$3:$E$1002,"In")) | I94: =IF(OR($A94="",$D94=""),"",$D94-'Settings'!$B$6) | J94: =IF(OR($A94="",$D94=""),"",IF($H94>0,$D94+ROW()/100000,""))
A95: INV-037 | B95: =IF($A95="","",IFERROR(INDEX('Items'!$B$3:$B$202,MATCH($A95,'Items'!$A$3:$A$202,0)),"")) | C95: L9534 | E95: 7 | F95: 46222 | G95: Main branch | H95: =IF($A95="","",$E95-SUMIFS('Movements'!$F$3:$F$1002,'Movements'!$B$3:$B$1002,$A95,'Movements'!$D$3:$D$1002,$C95,'Movements'!$E$3:$E$1002,"Out")-SUMIFS('Movements'!$F$3:$F$1002,'Movements'!$B$3:$B$1002,$A95,'Movements'!$D$3:$D$1002,$C95,'Movements'!$E$3:$E$1002,"Waste")+SUMIFS('Movements'!$F$3:$F$1002,'Movements'!$B$3:$B$1002,$A95,'Movements'!$D$3:$D$1002,$C95,'Movements'!$E$3:$E$1002,"In")) | I95: =IF(OR($A95="",$D95=""),"",$D95-'Settings'!$B$6) | J95: =IF(OR($A95="",$D95=""),"",IF($H95>0,$D95+ROW()/100000,""))
... A108: INV-042 | B108: =IF($A108="","",IFERROR(INDEX('Items'!$B$3:$B$202,MATCH($A108,'Items'!$A$3:$A$202,0)),"")) | C108: L10248 | E108: 3 | F108: 46230 | G108: Main branch | H108: =IF($A108="","",$E108-SUMIFS('Movements'!$F$3:$F$1002,'Movements'!$B$3:$B$1002,$A108,'Movements'!$D$3:$D$1002,$C108,'Movements'!$E$3:$E$1002,"Out")-SUMIFS('Movements'!$F$3:$F$1002,'Movements'!$B$3:$B$1002,$A108,'Movements'!$D$3:$D$1002,$C108,'Movements'!$E$3:$E$1002,"Waste")+SUMIFS('Movements'!$F$3:$F$1002,'Movements'!$B$3:$B$1002,$A108,'Movements'!$D$3:$D$1002,$C108,'Movements'!$E$3:$E$1002,"In")) | I108: =IF(OR($A108="",$D108=""),"",$D108-'Settings'!$B$6) | J108: =IF(OR($A108="",$D108=""),"",IF($H108>0,$D108+ROW()/100000,""))
A109: INV-043 | B109: =IF($A109="","",IFERROR(INDEX('Items'!$B$3:$B$202,MATCH($A109,'Items'!$A$3:$A$202,0)),"")) | C109: L10331 | D109: 47146 | E109: 3 | F109: 46223 | G109: Main branch | H109: =IF($A109="","",$E109-SUMIFS('Movements'!$F$3:$F$1002,'Movements'!$B$3:$B$1002,$A109,'Movements'!$D$3:$D$1002,$C109,'Movements'!$E$3:$E$1002,"Out")-SUMIFS('Movements'!$F$3:$F$1002,'Movements'!$B$3:$B$1002,$A109,'Movements'!$D$3:$D$1002,$C109,'Movements'!$E$3:$E$1002,"Waste")+SUMIFS('Movements'!$F$3:$F$1002,'Movements'!$B$3:$B$1002,$A109,'Movements'!$D$3:$D$1002,$C109,'Movements'!$E$3:$E$1002,"In")) | I109: =IF(OR($A109="",$D109=""),"",$D109-'Settings'!$B$6) | J109: =IF(OR($A109="",$D109=""),"",IF($H109>0,$D109+ROW()/100000,""))
A110: INV-043 | B110: =IF($A110="","",IFERROR(INDEX('Items'!$B$3:$B$202,MATCH($A110,'Items'!$A$3:$A$202,0)),"")) | C110: L10382 | D110: 47205 | E110: 6 | F110: 46251 | G110: Main branch | H110: =IF($A110="","",$E110-SUMIFS('Movements'!$F$3:$F$1002,'Movements'!$B$3:$B$1002,$A110,'Movements'!$D$3:$D$1002,$C110,'Movements'!$E$3:$E$1002,"Out")-SUMIFS('Movements'!$F$3:$F$1002,'Movements'!$B$3:$B$1002,$A110,'Movements'!$D$3:$D$1002,$C110,'Movements'!$E$3:$E$1002,"Waste")+SUMIFS('Movements'!$F$3:$F$1002,'Movements'!$B$3:$B$1002,$A110,'Movements'!$D$3:$D$1002,$C110,'Movements'!$E$3:$E$1002,"In")) | I110: =IF(OR($A110="",$D110=""),"",$D110-'Settings'!$B$6) | J110: =IF(OR($A110="",$D110=""),"",IF($H110>0,$D110+ROW()/100000,""))
A111: INV-043 | B111: =IF($A111="","",IFERROR(INDEX('Items'!$B$3:$B$202,MATCH($A111,'Items'!$A$3:$A$202,0)),"")) | C111: L10405 | D111: 47266 | E111: 12 | F111: 46276 | G111: Main branch | H111: =IF($A111="","",$E111-SUMIFS('Movements'!$F$3:$F$1002,'Movements'!$B$3:$B$1002,$A111,'Movements'!$D$3:$D$1002,$C111,'Movements'!$E$3:$E$1002,"Out")-SUMIFS('Movements'!$F$3:$F$1002,'Movements'!$B$3:$B$1002,$A111,'Movements'!$D$3:$D$1002,$C111,'Movements'!$E$3:$E$1002,"Waste")+SUMIFS('Movements'!$F$3:$F$1002,'Movements'!$B$3:$B$1002,$A111,'Movements'!$D$3:$D$1002,$C111,'Movements'!$E$3:$E$1002,"In")) | I111: =IF(OR($A111="",$D111=""),"",$D111-'Settings'!$B$6) | J111: =IF(OR($A111="",$D111=""),"",IF($H111>0,$D111+ROW()/100000,""))
A112: INV-044 | B112: =IF($A112="","",IFERROR(INDEX('Items'!$B$3:$B$202,MATCH($A112,'Items'!$A$3:$A$202,0)),"")) | C112: L10478 | D112: 46780 | E112: 5 | F112: 46231 | G112: Main branch | H112: =IF($A112="","",$E112-SUMIFS('Movements'!$F$3:$F$1002,'Movements'!$B$3:$B$1002,$A112,'Movements'!$D$3:$D$1002,$C112,'Movements'!$E$3:$E$1002,"Out")-SUMIFS('Movements'!$F$3:$F$1002,'Movements'!$B$3:$B$1002,$A112,'Movements'!$D$3:$D$1002,$C112,'Movements'!$E$3:$E$1002,"Waste")+SUMIFS('Movements'!$F$3:$F$1002,'Movements'!$B$3:$B$1002,$A112,'Movements'!$D$3:$D$1002,$C112,'Movements'!$E$3:$E$1002,"In")) | I112: =IF(OR($A112="",$D112=""),"",$D112-'Settings'!$B$6) | J112: =IF(OR($A112="",$D112=""),"",IF($H112>0,$D112+ROW()/100000,""))
A113: INV-045 | B113: =IF($A113="","",IFERROR(INDEX('Items'!$B$3:$B$202,MATCH($A113,'Items'!$A$3:$A$202,0)),"")) | C113: L10566 | D113: 47146 | E113: 6 | F113: 46230 | G113: Main branch | H113: =IF($A113="","",$E113-SUMIFS('Movements'!$F$3:$F$1002,'Movements'!$B$3:$B$1002,$A113,'Movements'!$D$3:$D$1002,$C113,'Movements'!$E$3:$E$1002,"Out")-SUMIFS('Movements'!$F$3:$F$1002,'Movements'!$B$3:$B$1002,$A113,'Movements'!$D$3:$D$1002,$C113,'Movements'!$E$3:$E$1002,"Waste")+SUMIFS('Movements'!$F$3:$F$1002,'Movements'!$B$3:$B$1002,$A113,'Movements'!$D$3:$D$1002,$C113,'Movements'!$E$3:$E$1002,"In")) | I113: =IF(OR($A113="",$D113=""),"",$D113-'Settings'!$B$6) | J113: =IF(OR($A113="",$D113=""),"",IF($H113>0,$D113+ROW()/100000,""))
A114: INV-045 | B114: =IF($A114="","",IFERROR(INDEX('Items'!$B$3:$B$202,MATCH($A114,'Items'!$A$3:$A$202,0)),"")) | C114: L10654 | D114: 47205 | E114: 6 | F114: 46251 | G114: Main branch | H114: =IF($A114="","",$E114-SUMIFS('Movements'!$F$3:$F$1002,'Movements'!$B$3:$B$1002,$A114,'Movements'!$D$3:$D$1002,$C114,'Movements'!$E$3:$E$1002,"Out")-SUMIFS('Movements'!$F$3:$F$1002,'Movements'!$B$3:$B$1002,$A114,'Movements'!$D$3:$D$1002,$C114,'Movements'!$E$3:$E$1002,"Waste")+SUMIFS('Movements'!$F$3:$F$1002,'Movements'!$B$3:$B$1002,$A114,'Movements'!$D$3:$D$1002,$C114,'Movements'!$E$3:$E$1002,"In")) | I114: =IF(OR($A114="",$D114=""),"",$D114-'Settings'!$B$6) | J114: =IF(OR($A114="",$D114=""),"",IF($H114>0,$D114+ROW()/100000,""))
A115: INV-045 | B115: =IF($A115="","",IFERROR(INDEX('Items'!$B$3:$B$202,MATCH($A115,'Items'!$A$3:$A$202,0)),"")) | C115: L10675 | D115: 47266 | E115: 10 | F115: 46275 | G115: Main branch | H115: =IF($A115="","",$E115-SUMIFS('Movements'!$F$3:$F$1002,'Movements'!$B$3:$B$1002,$A115,'Movements'!$D$3:$D$1002,$C115,'Movements'!$E$3:$E$1002,"Out")-SUMIFS('Movements'!$F$3:$F$1002,'Movements'!$B$3:$B$1002,$A115,'Movements'!$D$3:$D$1002,$C115,'Movements'!$E$3:$E$1002,"Waste")+SUMIFS('Movements'!$F$3:$F$1002,'Movements'!$B$3:$B$1002,$A115,'Movements'!$D$3:$D$1002,$C115,'Movements'!$E$3:$E$1002,"In")) | I115: =IF(OR($A115="",$D115=""),"",$D115-'Settings'!$B$6) | J115: =IF(OR($A115="",$D115=""),"",IF($H115>0,$D115+ROW()/100000,""))
A116: INV-001 | B116: =IF($A116="","",IFERROR(INDEX('Items'!$B$3:$B$202,MATCH($A116,'Items'!$A$3:$A$202,0)),"")) | C116: L10689 | D116: 47146 | E116: 6 | F116: 46232 | G116: North branch | H116: =IF($A116="","",$E116-SUMIFS('Movements'!$F$3:$F$1002,'Movements'!$B$3:$B$1002,$A116,'Movements'!$D$3:$D$1002,$C116,'Movements'!$E$3:$E$1002,"Out")-SUMIFS('Movements'!$F$3:$F$1002,'Movements'!$B$3:$B$1002,$A116,'Movements'!$D$3:$D$1002,$C116,'Movements'!$E$3:$E$1002,"Waste")+SUMIFS('Movements'!$F$3:$F$1002,'Movements'!$B$3:$B$1002,$A116,'Movements'!$D$3:$D$1002,$C116,'Movements'!$E$3:$E$1002,"In")) | I116: =IF(OR($A116="",$D116=""),"",$D116-'Settings'!$B$6) | J116: =IF(OR($A116="",$D116=""),"",IF($H116>0,$D116+ROW()/100000,""))
A117: INV-001 | B117: =IF($A117="","",IFERROR(INDEX('Items'!$B$3:$B$202,MATCH($A117,'Items'!$A$3:$A$202,0)),"")) | C117: L10713 | D117: 47205 | E117: 12 | F117: 46251 | G117: North branch | H117: =IF($A117="","",$E117-SUMIFS('Movements'!$F$3:$F$1002,'Movements'!$B$3:$B$1002,$A117,'Movements'!$D$3:$D$1002,$C117,'Movements'!$E$3:$E$1002,"Out")-SUMIFS('Movements'!$F$3:$F$1002,'Movements'!$B$3:$B$1002,$A117,'Movements'!$D$3:$D$1002,$C117,'Movements'!$E$3:$E$1002,"Waste")+SUMIFS('Movements'!$F$3:$F$1002,'Movements'!$B$3:$B$1002,$A117,'Movements'!$D$3:$D$1002,$C117,'Movements'!$E$3:$E$1002,"In")) | I117: =IF(OR($A117="",$D117=""),"",$D117-'Settings'!$B$6) | J117: =IF(OR($A117="",$D117=""),"",IF($H117>0,$D117+ROW()/100000,""))
A118: INV-001 | B118: =IF($A118="","",IFERROR(INDEX('Items'!$B$3:$B$202,MATCH($A118,'Items'!$A$3:$A$202,0)),"")) | C118: L10782 | D118: 47266 | E118: 8 | F118: 46280 | G118: North branch | H118: =IF($A118="","",$E118-SUMIFS('Movements'!$F$3:$F$1002,'Movements'!$B$3:$B$1002,$A118,'Movements'!$D$3:$D$1002,$C118,'Movements'!$E$3:$E$1002,"Out")-SUMIFS('Movements'!$F$3:$F$1002,'Movements'!$B$3:$B$1002,$A118,'Movements'!$D$3:$D$1002,$C118,'Movements'!$E$3:$E$1002,"Waste")+SUMIFS('Movements'!$F$3:$F$1002,'Movements'!$B$3:$B$1002,$A118,'Movements'!$D$3:$D$1002,$C118,'Movements'!$E$3:$E$1002,"In")) | I118: =IF(OR($A118="",$D118=""),"",$D118-'Settings'!$B$6) | J118: =IF(OR($A118="",$D118=""),"",IF($H118>0,$D118+ROW()/100000,""))
A119: INV-003 | B119: =IF($A119="","",IFERROR(INDEX('Items'!$B$3:$B$202,MATCH($A119,'Items'!$A$3:$A$202,0)),"")) | C119: L10818 | D119: 47146 | E119: 6 | F119: 46223 | G119: North branch | H119: =IF($A119="","",$E119-SUMIFS('Movements'!$F$3:$F$1002,'Movements'!$B$3:$B$1002,$A119,'Movements'!$D$3:$D$1002,$C119,'Movements'!$E$3:$E$1002,"Out")-SUMIFS('Movements'!$F$3:$F$1002,'Movements'!$B$3:$B$1002,$A119,'Movements'!$D$3:$D$1002,$C119,'Movements'!$E$3:$E$1002,"Waste")+SUMIFS('Movements'!$F$3:$F$1002,'Movements'!$B$3:$B$1002,$A119,'Movements'!$D$3:$D$1002,$C119,'Movements'!$E$3:$E$1002,"In")) | I119: =IF(OR($A119="",$D119=""),"",$D119-'Settings'!$B$6) | J119: =IF(OR($A119="",$D119=""),"",IF($H119>0,$D119+ROW()/100000,""))
A120: INV-003 | B120: =IF($A120="","",IFERROR(INDEX('Items'!$B$3:$B$202,MATCH($A120,'Items'!$A$3:$A$202,0)),"")) | C120: L10883 | D120: 47205 | E120: 12 | F120: 46249 | G120: North branch | H120: =IF($A120="","",$E120-SUMIFS('Movements'!$F$3:$F$1002,'Movements'!$B$3:$B$1002,$A120,'Movements'!$D$3:$D$1002,$C120,'Movements'!$E$3:$E$1002,"Out")-SUMIFS('Movements'!$F$3:$F$1002,'Movements'!$B$3:$B$1002,$A120,'Movements'!$D$3:$D$1002,$C120,'Movements'!$E$3:$E$1002,"Waste")+SUMIFS('Movements'!$F$3:$F$1002,'Movements'!$B$3:$B$1002,$A120,'Movements'!$D$3:$D$1002,$C120,'Movements'!$E$3:$E$1002,"In")) | I120: =IF(OR($A120="",$D120=""),"",$D120-'Settings'!$B$6) | J120: =IF(OR($A120="",$D120=""),"",IF($H120>0,$D120+ROW()/100000,""))
...

Sheet Movements
A1: Sample data: delete it and start. How to clear it is on the How to use sheet. | K1: Out and waste: From branch. In: To branch. Transfer: both. Deliveries go on Batches.
A2: Date | B2: Item code | C2: Item | D2: Batch no. | E2: Type | F2: Quantity | G2: From branch | H2: To branch | I2: Reason | J2: By
A3: 46236 | B3: INV-010 | C3: =IF($B3="","",IFERROR(INDEX('Items'!$B$3:$B$202,MATCH($B3,'Items'!$A$3:$A$202,0)),"")) | D3: L11187 | E3: Out | F3: 1 | G3: North branch | I3: Issued to clinic rooms | J3: Yasmin Ali
A4: 46236 | B4: INV-011 | C4: =IF($B4="","",IFERROR(INDEX('Items'!$B$3:$B$202,MATCH($B4,'Items'!$A$3:$A$202,0)),"")) | D4: L11330 | E4: Out | F4: 3 | G4: North branch | I4: Issued to clinic rooms | J4: Yasmin Ali
A5: 46236 | B5: INV-018 | C5: =IF($B5="","",IFERROR(INDEX('Items'!$B$3:$B$202,MATCH($B5,'Items'!$A$3:$A$202,0)),"")) | D5: L7119 | E5: Out | F5: 1 | G5: Main branch | I5: Issued to clinic rooms | J5: Fatima Saad
A6: 46236 | B6: INV-027 | C6: =IF($B6="","",IFERROR(INDEX('Items'!$B$3:$B$202,MATCH($B6,'Items'!$A$3:$A$202,0)),"")) | D6: L8487 | E6: Out | F6: 3 | G6: Main branch | I6: Issued to clinic rooms | J6: Fatima Saad
A7: 46236 | B7: INV-034 | C7: =IF($B7="","",IFERROR(INDEX('Items'!$B$3:$B$202,MATCH($B7,'Items'!$A$3:$A$202,0)),"")) | D7: L9240 | E7: Out | F7: 1 | G7: Main branch | I7: Issued to clinic rooms | J7: Omar Hassan
A8: 46236 | B8: INV-038 | C8: =IF($B8="","",IFERROR(INDEX('Items'!$B$3:$B$202,MATCH($B8,'Items'!$A$3:$A$202,0)),"")) | D8: L9661 | E8: Out | F8: 4 | G8: Main branch | I8: Issued to clinic rooms | J8: Omar Hassan
A9: 46236 | B9: INV-043 | C9: =IF($B9="","",IFERROR(INDEX('Items'!$B$3:$B$202,MATCH($B9,'Items'!$A$3:$A$202,0)),"")) | D9: L10331 | E9: Out | F9: 2 | G9: Main branch | I9: Issued to clinic rooms | J9: Omar Hassan
A10: 46237 | B10: INV-001 | C10: =IF($B10="","",IFERROR(INDEX('Items'!$B$3:$B$202,MATCH($B10,'Items'!$A$3:$A$202,0)),"")) | D10: L5032 | E10: Out | F10: 6 | G10: Main branch | I10: Issued to clinic rooms | J10: Mona Fahad
A11: 46237 | B11: INV-007 | C11: =IF($B11="","",IFERROR(INDEX('Items'!$B$3:$B$202,MATCH($B11,'Items'!$A$3:$A$202,0)),"")) | D11: L5978 | E11: Out | F11: 2 | G11: Main branch | I11: Issued to clinic rooms | J11: Mona Fahad
A12: 46237 | B12: INV-008 | C12: =IF($B12="","",IFERROR(INDEX('Items'!$B$3:$B$202,MATCH($B12,'Items'!$A$3:$A$202,0)),"")) | D12: L6096 | E12: Out | F12: 2 | G12: Main branch | I12: Issued to clinic rooms | J12: Mona Fahad
A13: 46237 | B13: INV-010 | C13: =IF($B13="","",IFERROR(INDEX('Items'!$B$3:$B$202,MATCH($B13,'Items'!$A$3:$A$202,0)),"")) | D13: L6307 | E13: Out | F13: 1 | G13: Main branch | I13: Issued to clinic rooms | J13: Fatima Saad
A14: 46237 | B14: INV-017 | C14: =IF($B14="","",IFERROR(INDEX('Items'!$B$3:$B$202,MATCH($B14,'Items'!$A$3:$A$202,0)),"")) | D14: L11640 | E14: Out | F14: 3 | G14: North branch | I14: Issued to clinic rooms | J14: Yasmin Ali
... A150: 46258 | B150: INV-036 | C150: =IF($B150="","",IFERROR(INDEX('Items'!$B$3:$B$202,MATCH($B150,'Items'!$A$3:$A$202,0)),"")) | D150: L9419 | E150: Out | F150: 1 | G150: Main branch | I150: Issued to clinic rooms | J150: Omar Hassan
A151: 46258 | B151: INV-037 | C151: =IF($B151="","",IFERROR(INDEX('Items'!$B$3:$B$202,MATCH($B151,'Items'!$A$3:$A$202,0)),"")) | D151: L9620 | E151: In | F151: 2 | H151: Main branch | I151: Count correction | J151: Reem Abdullah
A152: 46258 | B152: INV-044 | C152: =IF($B152="","",IFERROR(INDEX('Items'!$B$3:$B$202,MATCH($B152,'Items'!$A$3:$A$202,0)),"")) | D152: L10478 | E152: Out | F152: 1 | G152: Main branch | I152: Issued to clinic rooms | J152: Omar Hassan
A153: 46259 | B153: INV-005 | C153: =IF($B153="","",IFERROR(INDEX('Items'!$B$3:$B$202,MATCH($B153,'Items'!$A$3:$A$202,0)),"")) | D153: L5721 | E153: Out | F153: 3 | G153: Main branch | I153: Issued to clinic rooms | J153: Fatima Saad
A154: 46259 | B154: INV-012 | C154: =IF($B154="","",IFERROR(INDEX('Items'!$B$3:$B$202,MATCH($B154,'Items'!$A$3:$A$202,0)),"")) | D154: L11506 | E154: Out | F154: 2 | G154: North branch | I154: Issued to clinic rooms | J154: Yasmin Ali
A155: 46259 | B155: INV-013 | C155: =IF($B155="","",IFERROR(INDEX('Items'!$B$3:$B$202,MATCH($B155,'Items'!$A$3:$A$202,0)),"")) | D155: L6719 | E155: Out | F155: 4 | G155: Main branch | I155: Issued to clinic rooms | J155: Fatima Saad
A156: 46259 | B156: INV-017 | C156: =IF($B156="","",IFERROR(INDEX('Items'!$B$3:$B$202,MATCH($B156,'Items'!$A$3:$A$202,0)),"")) | D156: L7038 | E156: Out | F156: 5 | G156: Main branch | I156: Issued to clinic rooms | J156: Mona Fahad
A157: 46259 | B157: INV-022 | C157: =IF($B157="","",IFERROR(INDEX('Items'!$B$3:$B$202,MATCH($B157,'Items'!$A$3:$A$202,0)),"")) | D157: L7821 | E157: Out | F157: 2 | G157: Main branch | I157: Issued to clinic rooms | J157: Mona Fahad
A158: 46259 | B158: INV-033 | C158: =IF($B158="","",IFERROR(INDEX('Items'!$B$3:$B$202,MATCH($B158,'Items'!$A$3:$A$202,0)),"")) | D158: L11793 | E158: Out | F158: 2 | G158: North branch | I158: Issued to clinic rooms | J158: Yasmin Ali
A159: 46259 | B159: INV-040 | C159: =IF($B159="","",IFERROR(INDEX('Items'!$B$3:$B$202,MATCH($B159,'Items'!$A$3:$A$202,0)),"")) | D159: L9977 | E159: Out | F159: 1 | G159: Main branch | I159: Issued to clinic rooms | J159: Omar Hassan
A160: 46259 | B160: INV-043 | C160: =IF($B160="","",IFERROR(INDEX('Items'!$B$3:$B$202,MATCH($B160,'Items'!$A$3:$A$202,0)),"")) | D160: L10382 | E160: Out | F160: 1 | G160: Main branch | I160: Issued to clinic rooms | J160: Omar Hassan
A161: 46260 | B161: INV-001 | C161: =IF($B161="","",IFERROR(INDEX('Items'!$B$3:$B$202,MATCH($B161,'Items'!$A$3:$A$202,0)),"")) | D161: L5068 | E161: Out | F161: 6 | G161: Main branch | I161: Issued to clinic rooms | J161: Fatima Saad
A162: 46260 | B162: INV-001 | C162: =IF($B162="","",IFERROR(INDEX('Items'!$B$3:$B$202,MATCH($B162,'Items'!$A$3:$A$202,0)),"")) | D162: L10713 | E162: Out | F162: 3 | G162: North branch | I162: Issued to clinic rooms | J162: Yasmin Ali
A163: 46260 | B163: INV-002 | C163: =IF($B163="","",IFERROR(INDEX('Items'!$B$3:$B$202,MATCH($B163,'Items'!$A$3:$A$202,0)),"")) | D163: L5216 | E163: Out | F163: 5 | G163: Main branch | I163: Issued to clinic rooms | J163: Mona Fahad
... A229: 46268 | B229: INV-037 | C229: =IF($B229="","",IFERROR(INDEX('Items'!$B$3:$B$202,MATCH($B229,'Items'!$A$3:$A$202,0)),"")) | D229: L9576 | E229: Out | F229: 4 | G229: Main branch | I229: Issued to clinic rooms | J229: Reem Abdullah
A230: 46271 | B230: INV-003 | C230: =IF($B230="","",IFERROR(INDEX('Items'!$B$3:$B$202,MATCH($B230,'Items'!$A$3:$A$202,0)),"")) | D230: L5478 | E230: Transfer | F230: 4 | G230: Main branch | H230: North branch | I230: North branch ran short | J230: Mona Fahad
A231: 46271 | B231: INV-005 | C231: =IF($B231="","",IFERROR(INDEX('Items'!$B$3:$B$202,MATCH($B231,'Items'!$A$3:$A$202,0)),"")) | D231: L5721 | E231: Out | F231: 3 | G231: Main branch | I231: Issued to clinic rooms | J231: Fatima Saad
A232: 46271 | B232: INV-020 | C232: =IF($B232="","",IFERROR(INDEX('Items'!$B$3:$B$202,MATCH($B232,'Items'!$A$3:$A$202,0)),"")) | D232: L7519 | E232: Out | F232: 1 | G232: Main branch | I232: Issued to clinic rooms | J232: Mona Fahad
A233: 46271 | B233: INV-022 | C233: =IF($B233="","",IFERROR(INDEX('Items'!$B$3:$B$202,MATCH($B233,'Items'!$A$3:$A$202,0)),"")) | D233: L7821 | E233: Out | F233: 2 | G233: Main branch | I233: Issued to clinic rooms | J233: Mona Fahad
A234: 46271 | B234: INV-025 | C234: =IF($B234="","",IFERROR(INDEX('Items'!$B$3:$B$202,MATCH($B234,'Items'!$A$3:$A$202,0)),"")) | D234: L8335 | E234: Out | F234: 2 | G234: Main branch | I234: Issued to clinic rooms | J234: Fatima Saad
A235: 46271 | B235: INV-040 | C235: =IF($B235="","",IFERROR(INDEX('Items'!$B$3:$B$202,MATCH($B235,'Items'!$A$3:$A$202,0)),"")) | D235: L9977 | E235: Out | F235: 1 | G235: Main branch | I235: Issued to clinic rooms | J235: Reem Abdullah
A236: 46271 | B236: INV-044 | C236: =IF($B236="","",IFERROR(INDEX('Items'!$B$3:$B$202,MATCH($B236,'Items'!$A$3:$A$202,0)),"")) | D236: L10478 | E236: Out | F236: 1 | G236: Main branch | I236: Issued to clinic rooms | J236: Reem Abdullah
A237: 46271 | B237: INV-045 | C237: =IF($B237="","",IFERROR(INDEX('Items'!$B$3:$B$202,MATCH($B237,'Items'!$A$3:$A$202,0)),"")) | D237: L10654 | E237: Out | F237: 2 | G237: Main branch | I237: Issued to clinic rooms | J237: Omar Hassan
A238: 46272 | B238: INV-006 | C238: =IF($B238="","",IFERROR(INDEX('Items'!$B$3:$B$202,MATCH($B238,'Items'!$A$3:$A$202,0)),"")) | D238: L5849 | E238: Out | F238: 2 | G238: Main branch | I238: Issued to clinic rooms | J238: Fatima Saad
A239: 46272 | B239: INV-010 | C239: =IF($B239="","",IFERROR(INDEX('Items'!$B$3:$B$202,MATCH($B239,'Items'!$A$3:$A$202,0)),"")) | D239: L6327 | E239: Out | F239: 1 | G239: Main branch | I239: Issued to clinic rooms | J239: Mona Fahad
A240: 46272 | B240: INV-012 | C240: =IF($B240="","",IFERROR(INDEX('Items'!$B$3:$B$202,MATCH($B240,'Items'!$A$3:$A$202,0)),"")) | D240: L11506 | E240: Out | F240: 3 | G240: North branch | I240: Issued to clinic rooms | J240: Yasmin Ali
...

Sheet Balance
A1: Balance by item and branch
A2: Code | B2: Item | C2: Branch | D2: Supplier | E2: Unit | F2: On hand | G2: Minimum | H2: Status | I2: Next expiry | J2: Expiring within 60 days | K2: Last price | L2: Value | M2: Order key
A3: =IF('Items'!$A3="","",'Items'!$A3) | B3: =IF($A3="","",'Items'!$B3) | C3: =IF($A3="","",'Items'!$K3) | D3: =IF($A3="","",'Items'!$E3) | E3: =IF($A3="","",'Items'!$D3) | F3: =IF($A3="","",SUMIFS('Batches'!$E$3:$E$302,'Batches'!$A$3:$A$302,$A3,'Batches'!$G$3:$G$302,$C3)+SUMIFS('Movements'!$F$3:$F$1002,'Movements'!$B$3:$B$1002,$A3,'Movements'!$E$3:$E$1002,"In",'Movements'!$H$3:$H$1002,$C3)-SUMIFS('Movements'!$F$3:$F$1002,'Movements'!$B$3:$B$1002,$A3,'Movements'!$E$3:$E$1002,"Out",'Movements'!$G$3:$G$1002,$C3)-SUMIFS('Movements'!$F$3:$F$1002,'Movements'!$B$3:$B$1002,$A3,'Movements'!$E$3:$E$1002,"Waste",'Movements'!$G$3:$G$1002,$C3)+SUMIFS('Movements'!$F$3:$F$1002,'Movements'!$B$3:$B$1002,$A3,'Movements'!$E$3:$E$1002,"Transfer",'Movements'!$H$3:$H$1002,$C3)-SUMIFS('Movements'!$F$3:$F$1002,'Movements'!$B$3:$B$1002,$A3,'Movements'!$E$3:$E$1002,"Transfer",'Movements'!$G$3:$G$1002,$C3)) | G3: =IF($A3="","",'Items'!$I3) | H3: =IF(OR($A3="",$G3=""),"",IF($F3<$G3,"Below minimum","OK")) | I3: =IF($A3="","",IF(SUMPRODUCT(SMALL(('Batches'!$A$3:$A$302=$A3)*('Batches'!$G$3:$G$302=$C3)*('Batches'!$D$3:$D$302>0)*('Batches'!$H$3:$H$302>0)*'Batches'!$D$3:$D$302+(1-('Batches'!$A$3:$A$302=$A3)*('Batches'!$G$3:$G$302=$C3)*('Batches'!$D$3:$D$302>0)*('Batches'!$H$3:$H$302>0))*100000,1))>=100000,"",SUMPRODUCT(SMALL(('Batches'!$A$3:$A$302=$A3)*('Batches'!$G$3:$G$302=$C3)*('Batches'!$D$3:$D$302>0)*('Batches'!$H$3:$H$302>0)*'Batches'!$D$3:$D$302+(1-('Batches'!$A$3:$A$302=$A3)*('Batches'!$G$3:$G$302=$C3)*('Batches'!$D$3:$D$302>0)*('Batches'!$H$3:$H$302>0))*100000,1)))) | J3: =IF($A3="","",SUMIFS('Batches'!$H$3:$H$302,'Batches'!$A$3:$A$302,$A3,'Batches'!$G$3:$G$302,$C3,'Batches'!$D$3:$D$302,">0",'Batches'!$D$3:$D$302,"<="&('Settings'!$B$6+'Settings'!$B$7))) | K3: =IF($A3="","",'Items'!$F3) | L3: =IF($A3="","",$F3*$K3) | M3: =IF($A3="","",IF(AND($H3="Below minimum",OR('Order list'!$B$4="",$D3='Order list'!$B$4)),IFERROR(MATCH($D3,Suppliers,0),99)*10000+ROW(),""))
A4: =IF('Items'!$A4="","",'Items'!$A4) | B4: =IF($A4="","",'Items'!$B4) | C4: =IF($A4="","",'Items'!$K4) | D4: =IF($A4="","",'Items'!$E4) | E4: =IF($A4="","",'Items'!$D4) | F4: =IF($A4="","",SUMIFS('Batches'!$E$3:$E$302,'Batches'!$A$3:$A$302,$A4,'Batches'!$G$3:$G$302,$C4)+SUMIFS('Movements'!$F$3:$F$1002,'Movements'!$B$3:$B$1002,$A4,'Movements'!$E$3:$E$1002,"In",'Movements'!$H$3:$H$1002,$C4)-SUMIFS('Movements'!$F$3:$F$1002,'Movements'!$B$3:$B$1002,$A4,'Movements'!$E$3:$E$1002,"Out",'Movements'!$G$3:$G$1002,$C4)-SUMIFS('Movements'!$F$3:$F$1002,'Movements'!$B$3:$B$1002,$A4,'Movements'!$E$3:$E$1002,"Waste",'Movements'!$G$3:$G$1002,$C4)+SUMIFS('Movements'!$F$3:$F$1002,'Movements'!$B$3:$B$1002,$A4,'Movements'!$E$3:$E$1002,"Transfer",'Movements'!$H$3:$H$1002,$C4)-SUMIFS('Movements'!$F$3:$F$1002,'Movements'!$B$3:$B$1002,$A4,'Movements'!$E$3:$E$1002,"Transfer",'Movements'!$G$3:$G$1002,$C4)) | G4: =IF($A4="","",'Items'!$I4) | H4: =IF(OR($A4="",$G4=""),"",IF($F4<$G4,"Below minimum","OK")) | I4: =IF($A4="","",IF(SUMPRODUCT(SMALL(('Batches'!$A$3:$A$302=$A4)*('Batches'!$G$3:$G$302=$C4)*('Batches'!$D$3:$D$302>0)*('Batches'!$H$3:$H$302>0)*'Batches'!$D$3:$D$302+(1-('Batches'!$A$3:$A$302=$A4)*('Batches'!$G$3:$G$302=$C4)*('Batches'!$D$3:$D$302>0)*('Batches'!$H$3:$H$302>0))*100000,1))>=100000,"",SUMPRODUCT(SMALL(('Batches'!$A$3:$A$302=$A4)*('Batches'!$G$3:$G$302=$C4)*('Batches'!$D$3:$D$302>0)*('Batches'!$H$3:$H$302>0)*'Batches'!$D$3:$D$302+(1-('Batches'!$A$3:$A$302=$A4)*('Batches'!$G$3:$G$302=$C4)*('Batches'!$D$3:$D$302>0)*('Batches'!$H$3:$H$302>0))*100000,1)))) | J4: =IF($A4="","",SUMIFS('Batches'!$H$3:$H$302,'Batches'!$A$3:$A$302,$A4,'Batches'!$G$3:$G$302,$C4,'Batches'!$D$3:$D$302,">0",'Batches'!$D$3:$D$302,"<="&('Settings'!$B$6+'Settings'!$B$7))) | K4: =IF($A4="","",'Items'!$F4) | L4: =IF($A4="","",$F4*$K4) | M4: =IF($A4="","",IF(AND($H4="Below minimum",OR('Order list'!$B$4="",$D4='Order list'!$B$4)),IFERROR(MATCH($D4,Suppliers,0),99)*10000+ROW(),""))
A5: =IF('Items'!$A5="","",'Items'!$A5) | B5: =IF($A5="","",'Items'!$B5) | C5: =IF($A5="","",'Items'!$K5) | D5: =IF($A5="","",'Items'!$E5) | E5: =IF($A5="","",'Items'!$D5) | F5: =IF($A5="","",SUMIFS('Batches'!$E$3:$E$302,'Batches'!$A$3:$A$302,$A5,'Batches'!$G$3:$G$302,$C5)+SUMIFS('Movements'!$F$3:$F$1002,'Movements'!$B$3:$B$1002,$A5,'Movements'!$E$3:$E$1002,"In",'Movements'!$H$3:$H$1002,$C5)-SUMIFS('Movements'!$F$3:$F$1002,'Movements'!$B$3:$B$1002,$A5,'Movements'!$E$3:$E$1002,"Out",'Movements'!$G$3:$G$1002,$C5)-SUMIFS('Movements'!$F$3:$F$1002,'Movements'!$B$3:$B$1002,$A5,'Movements'!$E$3:$E$1002,"Waste",'Movements'!$G$3:$G$1002,$C5)+SUMIFS('Movements'!$F$3:$F$1002,'Movements'!$B$3:$B$1002,$A5,'Movements'!$E$3:$E$1002,"Transfer",'Movements'!$H$3:$H$1002,$C5)-SUMIFS('Movements'!$F$3:$F$1002,'Movements'!$B$3:$B$1002,$A5,'Movements'!$E$3:$E$1002,"Transfer",'Movements'!$G$3:$G$1002,$C5)) | G5: =IF($A5="","",'Items'!$I5) | H5: =IF(OR($A5="",$G5=""),"",IF($F5<$G5,"Below minimum","OK")) | I5: =IF($A5="","",IF(SUMPRODUCT(SMALL(('Batches'!$A$3:$A$302=$A5)*('Batches'!$G$3:$G$302=$C5)*('Batches'!$D$3:$D$302>0)*('Batches'!$H$3:$H$302>0)*'Batches'!$D$3:$D$302+(1-('Batches'!$A$3:$A$302=$A5)*('Batches'!$G$3:$G$302=$C5)*('Batches'!$D$3:$D$302>0)*('Batches'!$H$3:$H$302>0))*100000,1))>=100000,"",SUMPRODUCT(SMALL(('Batches'!$A$3:$A$302=$A5)*('Batches'!$G$3:$G$302=$C5)*('Batches'!$D$3:$D$302>0)*('Batches'!$H$3:$H$302>0)*'Batches'!$D$3:$D$302+(1-('Batches'!$A$3:$A$302=$A5)*('Batches'!$G$3:$G$302=$C5)*('Batches'!$D$3:$D$302>0)*('Batches'!$H$3:$H$302>0))*100000,1)))) | J5: =IF($A5="","",SUMIFS('Batches'!$H$3:$H$302,'Batches'!$A$3:$A$302,$A5,'Batches'!$G$3:$G$302,$C5,'Batches'!$D$3:$D$302,">0",'Batches'!$D$3:$D$302,"<="&('Settings'!$B$6+'Settings'!$B$7))) | K5: =IF($A5="","",'Items'!$F5) | L5: =IF($A5="","",$F5*$K5) | M5: =IF($A5="","",IF(AND($H5="Below minimum",OR('Order list'!$B$4="",$D5='Order list'!$B$4)),IFERROR(MATCH($D5,Suppliers,0),99)*10000+ROW(),""))
A6: =IF('Items'!$A6="","",'Items'!$A6) | B6: =IF($A6="","",'Items'!$B6) | C6: =IF($A6="","",'Items'!$K6) | D6: =IF($A6="","",'Items'!$E6) | E6: =IF($A6="","",'Items'!$D6) | F6: =IF($A6="","",SUMIFS('Batches'!$E$3:$E$302,'Batches'!$A$3:$A$302,$A6,'Batches'!$G$3:$G$302,$C6)+SUMIFS('Movements'!$F$3:$F$1002,'Movements'!$B$3:$B$1002,$A6,'Movements'!$E$3:$E$1002,"In",'Movements'!$H$3:$H$1002,$C6)-SUMIFS('Movements'!$F$3:$F$1002,'Movements'!$B$3:$B$1002,$A6,'Movements'!$E$3:$E$1002,"Out",'Movements'!$G$3:$G$1002,$C6)-SUMIFS('Movements'!$F$3:$F$1002,'Movements'!$B$3:$B$1002,$A6,'Movements'!$E$3:$E$1002,"Waste",'Movements'!$G$3:$G$1002,$C6)+SUMIFS('Movements'!$F$3:$F$1002,'Movements'!$B$3:$B$1002,$A6,'Movements'!$E$3:$E$1002,"Transfer",'Movements'!$H$3:$H$1002,$C6)-SUMIFS('Movements'!$F$3:$F$1002,'Movements'!$B$3:$B$1002,$A6,'Movements'!$E$3:$E$1002,"Transfer",'Movements'!$G$3:$G$1002,$C6)) | G6: =IF($A6="","",'Items'!$I6) | H6: =IF(OR($A6="",$G6=""),"",IF($F6<$G6,"Below minimum","OK")) | I6: =IF($A6="","",IF(SUMPRODUCT(SMALL(('Batches'!$A$3:$A$302=$A6)*('Batches'!$G$3:$G$302=$C6)*('Batches'!$D$3:$D$302>0)*('Batches'!$H$3:$H$302>0)*'Batches'!$D$3:$D$302+(1-('Batches'!$A$3:$A$302=$A6)*('Batches'!$G$3:$G$302=$C6)*('Batches'!$D$3:$D$302>0)*('Batches'!$H$3:$H$302>0))*100000,1))>=100000,"",SUMPRODUCT(SMALL(('Batches'!$A$3:$A$302=$A6)*('Batches'!$G$3:$G$302=$C6)*('Batches'!$D$3:$D$302>0)*('Batches'!$H$3:$H$302>0)*'Batches'!$D$3:$D$302+(1-('Batches'!$A$3:$A$302=$A6)*('Batches'!$G$3:$G$302=$C6)*('Batches'!$D$3:$D$302>0)*('Batches'!$H$3:$H$302>0))*100000,1)))) | J6: =IF($A6="","",SUMIFS('Batches'!$H$3:$H$302,'Batches'!$A$3:$A$302,$A6,'Batches'!$G$3:$G$302,$C6,'Batches'!$D$3:$D$302,">0",'Batches'!$D$3:$D$302,"<="&('Settings'!$B$6+'Settings'!$B$7))) | K6: =IF($A6="","",'Items'!$F6) | L6: =IF($A6="","",$F6*$K6) | M6: =IF($A6="","",IF(AND($H6="Below minimum",OR('Order list'!$B$4="",$D6='Order list'!$B$4)),IFERROR(MATCH($D6,Suppliers,0),99)*10000+ROW(),""))
A7: =IF('Items'!$A7="","",'Items'!$A7) | B7: =IF($A7="","",'Items'!$B7) | C7: =IF($A7="","",'Items'!$K7) | D7: =IF($A7="","",'Items'!$E7) | E7: =IF($A7="","",'Items'!$D7) | F7: =IF($A7="","",SUMIFS('Batches'!$E$3:$E$302,'Batches'!$A$3:$A$302,$A7,'Batches'!$G$3:$G$302,$C7)+SUMIFS('Movements'!$F$3:$F$1002,'Movements'!$B$3:$B$1002,$A7,'Movements'!$E$3:$E$1002,"In",'Movements'!$H$3:$H$1002,$C7)-SUMIFS('Movements'!$F$3:$F$1002,'Movements'!$B$3:$B$1002,$A7,'Movements'!$E$3:$E$1002,"Out",'Movements'!$G$3:$G$1002,$C7)-SUMIFS('Movements'!$F$3:$F$1002,'Movements'!$B$3:$B$1002,$A7,'Movements'!$E$3:$E$1002,"Waste",'Movements'!$G$3:$G$1002,$C7)+SUMIFS('Movements'!$F$3:$F$1002,'Movements'!$B$3:$B$1002,$A7,'Movements'!$E$3:$E$1002,"Transfer",'Movements'!$H$3:$H$1002,$C7)-SUMIFS('Movements'!$F$3:$F$1002,'Movements'!$B$3:$B$1002,$A7,'Movements'!$E$3:$E$1002,"Transfer",'Movements'!$G$3:$G$1002,$C7)) | G7: =IF($A7="","",'Items'!$I7) | H7: =IF(OR($A7="",$G7=""),"",IF($F7<$G7,"Below minimum","OK")) | I7: =IF($A7="","",IF(SUMPRODUCT(SMALL(('Batches'!$A$3:$A$302=$A7)*('Batches'!$G$3:$G$302=$C7)*('Batches'!$D$3:$D$302>0)*('Batches'!$H$3:$H$302>0)*'Batches'!$D$3:$D$302+(1-('Batches'!$A$3:$A$302=$A7)*('Batches'!$G$3:$G$302=$C7)*('Batches'!$D$3:$D$302>0)*('Batches'!$H$3:$H$302>0))*100000,1))>=100000,"",SUMPRODUCT(SMALL(('Batches'!$A$3:$A$302=$A7)*('Batches'!$G$3:$G$302=$C7)*('Batches'!$D$3:$D$302>0)*('Batches'!$H$3:$H$302>0)*'Batches'!$D$3:$D$302+(1-('Batches'!$A$3:$A$302=$A7)*('Batches'!$G$3:$G$302=$C7)*('Batches'!$D$3:$D$302>0)*('Batches'!$H$3:$H$302>0))*100000,1)))) | J7: =IF($A7="","",SUMIFS('Batches'!$H$3:$H$302,'Batches'!$A$3:$A$302,$A7,'Batches'!$G$3:$G$302,$C7,'Batches'!$D$3:$D$302,">0",'Batches'!$D$3:$D$302,"<="&('Settings'!$B$6+'Settings'!$B$7))) | K7: =IF($A7="","",'Items'!$F7) | L7: =IF($A7="","",$F7*$K7) | M7: =IF($A7="","",IF(AND($H7="Below minimum",OR('Order list'!$B$4="",$D7='Order list'!$B$4)),IFERROR(MATCH($D7,Suppliers,0),99)*10000+ROW(),""))
A8: =IF('Items'!$A8="","",'Items'!$A8) | B8: =IF($A8="","",'Items'!$B8) | C8: =IF($A8="","",'Items'!$K8) | D8: =IF($A8="","",'Items'!$E8) | E8: =IF($A8="","",'Items'!$D8) | F8: =IF($A8="","",SUMIFS('Batches'!$E$3:$E$302,'Batches'!$A$3:$A$302,$A8,'Batches'!$G$3:$G$302,$C8)+SUMIFS('Movements'!$F$3:$F$1002,'Movements'!$B$3:$B$1002,$A8,'Movements'!$E$3:$E$1002,"In",'Movements'!$H$3:$H$1002,$C8)-SUMIFS('Movements'!$F$3:$F$1002,'Movements'!$B$3:$B$1002,$A8,'Movements'!$E$3:$E$1002,"Out",'Movements'!$G$3:$G$1002,$C8)-SUMIFS('Movements'!$F$3:$F$1002,'Movements'!$B$3:$B$1002,$A8,'Movements'!$E$3:$E$1002,"Waste",'Movements'!$G$3:$G$1002,$C8)+SUMIFS('Movements'!$F$3:$F$1002,'Movements'!$B$3:$B$1002,$A8,'Movements'!$E$3:$E$1002,"Transfer",'Movements'!$H$3:$H$1002,$C8)-SUMIFS('Movements'!$F$3:$F$1002,'Movements'!$B$3:$B$1002,$A8,'Movements'!$E$3:$E$1002,"Transfer",'Movements'!$G$3:$G$1002,$C8)) | G8: =IF($A8="","",'Items'!$I8) | H8: =IF(OR($A8="",$G8=""),"",IF($F8<$G8,"Below minimum","OK")) | I8: =IF($A8="","",IF(SUMPRODUCT(SMALL(('Batches'!$A$3:$A$302=$A8)*('Batches'!$G$3:$G$302=$C8)*('Batches'!$D$3:$D$302>0)*('Batches'!$H$3:$H$302>0)*'Batches'!$D$3:$D$302+(1-('Batches'!$A$3:$A$302=$A8)*('Batches'!$G$3:$G$302=$C8)*('Batches'!$D$3:$D$302>0)*('Batches'!$H$3:$H$302>0))*100000,1))>=100000,"",SUMPRODUCT(SMALL(('Batches'!$A$3:$A$302=$A8)*('Batches'!$G$3:$G$302=$C8)*('Batches'!$D$3:$D$302>0)*('Batches'!$H$3:$H$302>0)*'Batches'!$D$3:$D$302+(1-('Batches'!$A$3:$A$302=$A8)*('Batches'!$G$3:$G$302=$C8)*('Batches'!$D$3:$D$302>0)*('Batches'!$H$3:$H$302>0))*100000,1)))) | J8: =IF($A8="","",SUMIFS('Batches'!$H$3:$H$302,'Batches'!$A$3:$A$302,$A8,'Batches'!$G$3:$G$302,$C8,'Batches'!$D$3:$D$302,">0",'Batches'!$D$3:$D$302,"<="&('Settings'!$B$6+'Settings'!$B$7))) | K8: =IF($A8="","",'Items'!$F8) | L8: =IF($A8="","",$F8*$K8) | M8: =IF($A8="","",IF(AND($H8="Below minimum",OR('Order list'!$B$4="",$D8='Order list'!$B$4)),IFERROR(MATCH($D8,Suppliers,0),99)*10000+ROW(),""))
A9: =IF('Items'!$A9="","",'Items'!$A9) | B9: =IF($A9="","",'Items'!$B9) | C9: =IF($A9="","",'Items'!$K9) | D9: =IF($A9="","",'Items'!$E9) | E9: =IF($A9="","",'Items'!$D9) | F9: =IF($A9="","",SUMIFS('Batches'!$E$3:$E$302,'Batches'!$A$3:$A$302,$A9,'Batches'!$G$3:$G$302,$C9)+SUMIFS('Movements'!$F$3:$F$1002,'Movements'!$B$3:$B$1002,$A9,'Movements'!$E$3:$E$1002,"In",'Movements'!$H$3:$H$1002,$C9)-SUMIFS('Movements'!$F$3:$F$1002,'Movements'!$B$3:$B$1002,$A9,'Movements'!$E$3:$E$1002,"Out",'Movements'!$G$3:$G$1002,$C9)-SUMIFS('Movements'!$F$3:$F$1002,'Movements'!$B$3:$B$1002,$A9,'Movements'!$E$3:$E$1002,"Waste",'Movements'!$G$3:$G$1002,$C9)+SUMIFS('Movements'!$F$3:$F$1002,'Movements'!$B$3:$B$1002,$A9,'Movements'!$E$3:$E$1002,"Transfer",'Movements'!$H$3:$H$1002,$C9)-SUMIFS('Movements'!$F$3:$F$1002,'Movements'!$B$3:$B$1002,$A9,'Movements'!$E$3:$E$1002,"Transfer",'Movements'!$G$3:$G$1002,$C9)) | G9: =IF($A9="","",'Items'!$I9) | H9: =IF(OR($A9="",$G9=""),"",IF($F9<$G9,"Below minimum","OK")) | I9: =IF($A9="","",IF(SUMPRODUCT(SMALL(('Batches'!$A$3:$A$302=$A9)*('Batches'!$G$3:$G$302=$C9)*('Batches'!$D$3:$D$302>0)*('Batches'!$H$3:$H$302>0)*'Batches'!$D$3:$D$302+(1-('Batches'!$A$3:$A$302=$A9)*('Batches'!$G$3:$G$302=$C9)*('Batches'!$D$3:$D$302>0)*('Batches'!$H$3:$H$302>0))*100000,1))>=100000,"",SUMPRODUCT(SMALL(('Batches'!$A$3:$A$302=$A9)*('Batches'!$G$3:$G$302=$C9)*('Batches'!$D$3:$D$302>0)*('Batches'!$H$3:$H$302>0)*'Batches'!$D$3:$D$302+(1-('Batches'!$A$3:$A$302=$A9)*('Batches'!$G$3:$G$302=$C9)*('Batches'!$D$3:$D$302>0)*('Batches'!$H$3:$H$302>0))*100000,1)))) | J9: =IF($A9="","",SUMIFS('Batches'!$H$3:$H$302,'Batches'!$A$3:$A$302,$A9,'Batches'!$G$3:$G$302,$C9,'Batches'!$D$3:$D$302,">0",'Batches'!$D$3:$D$302,"<="&('Settings'!$B$6+'Settings'!$B$7))) | K9: =IF($A9="","",'Items'!$F9) | L9: =IF($A9="","",$F9*$K9) | M9: =IF($A9="","",IF(AND($H9="Below minimum",OR('Order list'!$B$4="",$D9='Order list'!$B$4)),IFERROR(MATCH($D9,Suppliers,0),99)*10000+ROW(),""))
A10: =IF('Items'!$A10="","",'Items'!$A10) | B10: =IF($A10="","",'Items'!$B10) | C10: =IF($A10="","",'Items'!$K10) | D10: =IF($A10="","",'Items'!$E10) | E10: =IF($A10="","",'Items'!$D10) | F10: =IF($A10="","",SUMIFS('Batches'!$E$3:$E$302,'Batches'!$A$3:$A$302,$A10,'Batches'!$G$3:$G$302,$C10)+SUMIFS('Movements'!$F$3:$F$1002,'Movements'!$B$3:$B$1002,$A10,'Movements'!$E$3:$E$1002,"In",'Movements'!$H$3:$H$1002,$C10)-SUMIFS('Movements'!$F$3:$F$1002,'Movements'!$B$3:$B$1002,$A10,'Movements'!$E$3:$E$1002,"Out",'Movements'!$G$3:$G$1002,$C10)-SUMIFS('Movements'!$F$3:$F$1002,'Movements'!$B$3:$B$1002,$A10,'Movements'!$E$3:$E$1002,"Waste",'Movements'!$G$3:$G$1002,$C10)+SUMIFS('Movements'!$F$3:$F$1002,'Movements'!$B$3:$B$1002,$A10,'Movements'!$E$3:$E$1002,"Transfer",'Movements'!$H$3:$H$1002,$C10)-SUMIFS('Movements'!$F$3:$F$1002,'Movements'!$B$3:$B$1002,$A10,'Movements'!$E$3:$E$1002,"Transfer",'Movements'!$G$3:$G$1002,$C10)) | G10: =IF($A10="","",'Items'!$I10) | H10: =IF(OR($A10="",$G10=""),"",IF($F10<$G10,"Below minimum","OK")) | I10: =IF($A10="","",IF(SUMPRODUCT(SMALL(('Batches'!$A$3:$A$302=$A10)*('Batches'!$G$3:$G$302=$C10)*('Batches'!$D$3:$D$302>0)*('Batches'!$H$3:$H$302>0)*'Batches'!$D$3:$D$302+(1-('Batches'!$A$3:$A$302=$A10)*('Batches'!$G$3:$G$302=$C10)*('Batches'!$D$3:$D$302>0)*('Batches'!$H$3:$H$302>0))*100000,1))>=100000,"",SUMPRODUCT(SMALL(('Batches'!$A$3:$A$302=$A10)*('Batches'!$G$3:$G$302=$C10)*('Batches'!$D$3:$D$302>0)*('Batches'!$H$3:$H$302>0)*'Batches'!$D$3:$D$302+(1-('Batches'!$A$3:$A$302=$A10)*('Batches'!$G$3:$G$302=$C10)*('Batches'!$D$3:$D$302>0)*('Batches'!$H$3:$H$302>0))*100000,1)))) | J10: =IF($A10="","",SUMIFS('Batches'!$H$3:$H$302,'Batches'!$A$3:$A$302,$A10,'Batches'!$G$3:$G$302,$C10,'Batches'!$D$3:$D$302,">0",'Batches'!$D$3:$D$302,"<="&('Settings'!$B$6+'Settings'!$B$7))) | K10: =IF($A10="","",'Items'!$F10) | L10: =IF($A10="","",$F10*$K10) | M10: =IF($A10="","",IF(AND($H10="Below minimum",OR('Order list'!$B$4="",$D10='Order list'!$B$4)),IFERROR(MATCH($D10,Suppliers,0),99)*10000+ROW(),""))
A11: =IF('Items'!$A11="","",'Items'!$A11) | B11: =IF($A11="","",'Items'!$B11) | C11: =IF($A11="","",'Items'!$K11) | D11: =IF($A11="","",'Items'!$E11) | E11: =IF($A11="","",'Items'!$D11) | F11: =IF($A11="","",SUMIFS('Batches'!$E$3:$E$302,'Batches'!$A$3:$A$302,$A11,'Batches'!$G$3:$G$302,$C11)+SUMIFS('Movements'!$F$3:$F$1002,'Movements'!$B$3:$B$1002,$A11,'Movements'!$E$3:$E$1002,"In",'Movements'!$H$3:$H$1002,$C11)-SUMIFS('Movements'!$F$3:$F$1002,'Movements'!$B$3:$B$1002,$A11,'Movements'!$E$3:$E$1002,"Out",'Movements'!$G$3:$G$1002,$C11)-SUMIFS('Movements'!$F$3:$F$1002,'Movements'!$B$3:$B$1002,$A11,'Movements'!$E$3:$E$1002,"Waste",'Movements'!$G$3:$G$1002,$C11)+SUMIFS('Movements'!$F$3:$F$1002,'Movements'!$B$3:$B$1002,$A11,'Movements'!$E$3:$E$1002,"Transfer",'Movements'!$H$3:$H$1002,$C11)-SUMIFS('Movements'!$F$3:$F$1002,'Movements'!$B$3:$B$1002,$A11,'Movements'!$E$3:$E$1002,"Transfer",'Movements'!$G$3:$G$1002,$C11)) | G11: =IF($A11="","",'Items'!$I11) | H11: =IF(OR($A11="",$G11=""),"",IF($F11<$G11,"Below minimum","OK")) | I11: =IF($A11="","",IF(SUMPRODUCT(SMALL(('Batches'!$A$3:$A$302=$A11)*('Batches'!$G$3:$G$302=$C11)*('Batches'!$D$3:$D$302>0)*('Batches'!$H$3:$H$302>0)*'Batches'!$D$3:$D$302+(1-('Batches'!$A$3:$A$302=$A11)*('Batches'!$G$3:$G$302=$C11)*('Batches'!$D$3:$D$302>0)*('Batches'!$H$3:$H$302>0))*100000,1))>=100000,"",SUMPRODUCT(SMALL(('Batches'!$A$3:$A$302=$A11)*('Batches'!$G$3:$G$302=$C11)*('Batches'!$D$3:$D$302>0)*('Batches'!$H$3:$H$302>0)*'Batches'!$D$3:$D$302+(1-('Batches'!$A$3:$A$302=$A11)*('Batches'!$G$3:$G$302=$C11)*('Batches'!$D$3:$D$302>0)*('Batches'!$H$3:$H$302>0))*100000,1)))) | J11: =IF($A11="","",SUMIFS('Batches'!$H$3:$H$302,'Batches'!$A$3:$A$302,$A11,'Batches'!$G$3:$G$302,$C11,'Batches'!$D$3:$D$302,">0",'Batches'!$D$3:$D$302,"<="&('Settings'!$B$6+'Settings'!$B$7))) | K11: =IF($A11="","",'Items'!$F11) | L11: =IF($A11="","",$F11*$K11) | M11: =IF($A11="","",IF(AND($H11="Below minimum",OR('Order list'!$B$4="",$D11='Order list'!$B$4)),IFERROR(MATCH($D11,Suppliers,0),99)*10000+ROW(),""))
